BEGIN:VCALENDAR
VERSION:2.0
PRODID:-//Nutrition - ECPv6.15.17.1//NONSGML v1.0//EN
CALSCALE:GREGORIAN
METHOD:PUBLISH
X-ORIGINAL-URL:https://ntr.uncg.edu
X-WR-CALDESC:Events for Nutrition
REFRESH-INTERVAL;VALUE=DURATION:PT1H
X-Robots-Tag:noindex
X-PUBLISHED-TTL:PT1H
BEGIN:VTIMEZONE
TZID:America/New_York
BEGIN:DAYLIGHT
TZOFFSETFROM:-0500
TZOFFSETTO:-0400
TZNAME:EDT
DTSTART:20210314T070000
END:DAYLIGHT
BEGIN:STANDARD
TZOFFSETFROM:-0400
TZOFFSETTO:-0500
TZNAME:EST
DTSTART:20211107T060000
END:STANDARD
BEGIN:DAYLIGHT
TZOFFSETFROM:-0500
TZOFFSETTO:-0400
TZNAME:EDT
DTSTART:20220313T070000
END:DAYLIGHT
BEGIN:STANDARD
TZOFFSETFROM:-0400
TZOFFSETTO:-0500
TZNAME:EST
DTSTART:20221106T060000
END:STANDARD
BEGIN:DAYLIGHT
TZOFFSETFROM:-0500
TZOFFSETTO:-0400
TZNAME:EDT
DTSTART:20230312T070000
END:DAYLIGHT
BEGIN:STANDARD
TZOFFSETFROM:-0400
TZOFFSETTO:-0500
TZNAME:EST
DTSTART:20231105T060000
END:STANDARD
BEGIN:DAYLIGHT
TZOFFSETFROM:-0500
TZOFFSETTO:-0400
TZNAME:EDT
DTSTART:20240310T070000
END:DAYLIGHT
BEGIN:STANDARD
TZOFFSETFROM:-0400
TZOFFSETTO:-0500
TZNAME:EST
DTSTART:20241103T060000
END:STANDARD
END:VTIMEZONE
BEGIN:VEVENT
DTSTART;TZID=America/New_York:20231214T190000
DTEND;TZID=America/New_York:20231226T200000
DTSTAMP:20260422T023520
CREATED:20231102T170619Z
LAST-MODIFIED:20231102T173100Z
UID:10000008-1702580400-1703620800@ntr.uncg.edu
SUMMARY:UNCG Dietetic Internship Virtual Open House
DESCRIPTION:Virtual Open House Details\nThe UNCG DI Program prepares interns for successful professional practice via a contemporary curriculum that includes training in culinary medicine and sports nutrition. Our Open House will allow you the opportunity to meet and network with our DI program faculty and current interns. \nProspective applicants are also invited to schedule an individual appointment either on campus or via Zoom on December 11\, 12\, 13\, or 14. \nHow to Participate in this Virtual Event\nContact the DI program director Babbi Hawkins at bsahkin@uncg.edu.  You will be sent a zoom link.
URL:https://ntr.uncg.edu/event/uncg-dietetic-internship-virtual-open-house/
CATEGORIES:Open House
ATTACH;FMTTYPE=image/png:https://ntr.uncg.edu/wp-content/uploads/2023/11/vitual-open-house-2023.png
ORGANIZER;CN="Babbi Hawkins":MAILTO:bshawkin@uncg.edu
END:VEVENT
BEGIN:VEVENT
DTSTART;VALUE=DATE:20231211
DTEND;VALUE=DATE:20231215
DTSTAMP:20260422T023520
CREATED:20231102T171829Z
LAST-MODIFIED:20231106T144522Z
UID:10000009-1702252800-1702598399@ntr.uncg.edu
SUMMARY:Prospective Dietetic Intern Students Visit Department
DESCRIPTION:Details\n Prospective applicants are invited to schedule an individual appointment on campus or via Zoom on December 11\, 12\, 13\, or 14.  \n\nIn person: we will contact you about a specific time and loaction\nVirtual: we will email a zoom link\n\nContact\nContact the DI program director to schedule: bshawkin@uncg.edu  \n 
URL:https://ntr.uncg.edu/event/prospective-dietetic-intern-students-visit-department/
END:VEVENT
BEGIN:VEVENT
DTSTART;TZID=America/New_York:20231016T150000
DTEND;TZID=America/New_York:20231016T160000
DTSTAMP:20260422T023520
CREATED:20230926T204450Z
LAST-MODIFIED:20230926T204450Z
UID:10000007-1697468400-1697472000@ntr.uncg.edu
SUMMARY:Nutrition Seminar with Dr. Radu Rusu
DESCRIPTION:We are delighted to welcome Visiting Research Scholar\, Dr. Radu Rusu\, and his family to Greensboro for the academic year! Join us for Nutrition Seminar on 10/16 at 3pm to hear Dr. Rusu speak about the nutritional landscape in Moldova.
URL:https://ntr.uncg.edu/event/nutrition-seminar-with-dr-radu-rusu/
END:VEVENT
BEGIN:VEVENT
DTSTART;TZID=America/New_York:20230405T120000
DTEND;TZID=America/New_York:20230405T130000
DTSTAMP:20260422T023520
CREATED:20230601T172141Z
LAST-MODIFIED:20230601T173356Z
UID:10000004-1680696000-1680699600@ntr.uncg.edu
SUMMARY:Fuel for the Future Culinary Medicine: Snacks
DESCRIPTION:What: The UNCG Nutrition Culinary Medicine program is hosting a hands-on cooking series. When: 12:00 – 1:00pm \n\nBreakfast – March 15\, 2023\nLunch – March 22\, 2023\nDinner – March 29\, 2023\nSnacks – April 5\, 2023\n\nCost: \n\nParticipating in all four classes costs $60 if you register by March 8.\nIf you’re not sure you can participate in all four classes\, it is $17 per class.\nIf registering for classes by week\, registration will need to be submitted by 5pm on the Friday prior to Wednesday’s class.\nInformation on payment will be sent after registration.
URL:https://ntr.uncg.edu/event/fuel-for-the-future-culinary-medicine-snacks/
LOCATION:Nutrition Lab\, Stone 303
END:VEVENT
BEGIN:VEVENT
DTSTART;TZID=America/New_York:20230329T120000
DTEND;TZID=America/New_York:20230329T130000
DTSTAMP:20260422T023520
CREATED:20230601T171702Z
LAST-MODIFIED:20230601T173415Z
UID:10000003-1680091200-1680094800@ntr.uncg.edu
SUMMARY:Fuel for the Future Culinary Medicine: Dinner
DESCRIPTION:What: The UNCG Nutrition Culinary Medicine program is hosting a hands-on cooking series. When: 12:00 – 1:00pm \n\nBreakfast – March 15\, 2023\nLunch – March 22\, 2023\nDinner – March 29\, 2023\nSnacks – April 5\, 2023\n\nCost: \n\nParticipating in all four classes costs $60 if you register by March 8.\nIf you’re not sure you can participate in all four classes\, it is $17 per class.\nIf registering for classes by week\, registration will need to be submitted by 5pm on the Friday prior to Wednesday’s class.\nInformation on payment will be sent after registration.
URL:https://ntr.uncg.edu/event/fuel-for-the-future-culinary-medicine-dinner/
LOCATION:Nutrition Lab\, Stone 303
END:VEVENT
BEGIN:VEVENT
DTSTART;TZID=America/New_York:20230322T120000
DTEND;TZID=America/New_York:20230322T130000
DTSTAMP:20260422T023520
CREATED:20230601T171237Z
LAST-MODIFIED:20230601T173449Z
UID:10000002-1679486400-1679490000@ntr.uncg.edu
SUMMARY:Fuel for the Future Culinary Medicine: Lunch
DESCRIPTION:What: The UNCG Nutrition Culinary Medicine program is hosting a 4-week\, hands-on cooking series. When: 12:00 – 1:00pm \n\nBreakfast – March 15\, 2023\nLunch – March 22\, 2023\nDinner – March 29\, 2023\nSnacks – April 5\, 2023\n\nCost: \n\nParticipating in all four classes costs $60 if you register by March 8.\nIf you’re not sure you can participate in all four classes\, it is $17 per class.\nIf registering for classes by week\, registration will need to be submitted by 5pm on the Friday prior to Wednesday’s class.\nInformation on payment will be sent after registration.
URL:https://ntr.uncg.edu/event/fuel-for-the-future-culinary-medicine-lunch/
LOCATION:Nutrition Lab\, Stone 303
END:VEVENT
BEGIN:VEVENT
DTSTART;TZID=America/New_York:20230315T120000
DTEND;TZID=America/New_York:20230315T130000
DTSTAMP:20260422T023520
CREATED:20230601T161011Z
LAST-MODIFIED:20230601T170357Z
UID:10000001-1678881600-1678885200@ntr.uncg.edu
SUMMARY:Fuel for the Future Culinary Medicine: Breakfast
DESCRIPTION:What: The UNCG Nutrition Culinary Medicine program is hosting a 4-week\, hands-on cooking series. When: 12:00 – 1:00pm \n\nBreakfast – March 15\, 2023\nLunch – March 22\, 2023\nDinner – March 29\, 2023\nSnacks – April 5\, 2023\n\nCost: \n\nParticipating in all four classes costs $60 if you register by March 8.\nIf you’re not sure you can participate in all four classes\, it is $17 per class.\nIf registering for classes by week\, registration will need to be submitted by 5pm on the Friday prior to Wednesday’s class.\nInformation on payment will be sent after registration.
URL:https://ntr.uncg.edu/event/fuel-for-the-future-culinary-medicine-breakfast/
LOCATION:Nutrition Lab\, Stone 303
END:VEVENT
BEGIN:VEVENT
DTSTART;TZID=America/New_York:20221208T190000
DTEND;TZID=America/New_York:20221208T203000
DTSTAMP:20260422T023520
CREATED:20221219T130053Z
LAST-MODIFIED:20230619T155909Z
UID:10000006-1670526000-1670531400@ntr.uncg.edu
SUMMARY:Dietetic Internship Virtual Open House
DESCRIPTION:The UNCG Dietetic Internship (DI) Program prepares interns for successful professional practice. Our Open House will allow you the opportunity to meet and network with our DI program faculty and current interns. \nWhile we are unable to physically welcome you to our beautiful Greensboro campus\, we will do our best to provide insight into what sets our program apart from others. Let us help you find your way here! \nSee here for an application and additional information.
URL:https://ntr.uncg.edu/event/dietetic-internship-virtual-open-house/
ATTACH;FMTTYPE=image/jpeg:https://ntr.uncg.edu/wp-content/uploads/2023/05/10-31-22-News.jpg
END:VEVENT
END:VCALENDAR